BEGIN:VCALENDAR
VERSION:2.0
PRODID:-//Riverbend Campground, Okotoks, Calgary, Alberta - ECPv6.15.20//NONSGML v1.0//EN
CALSCALE:GREGORIAN
METHOD:PUBLISH
X-WR-CALNAME:Riverbend Campground, Okotoks, Calgary, Alberta
X-ORIGINAL-URL:https://riverbendcampground.ca
X-WR-CALDESC:Events for Riverbend Campground, Okotoks, Calgary, Alberta
REFRESH-INTERVAL;VALUE=DURATION:PT1H
X-Robots-Tag:noindex
X-PUBLISHED-TTL:PT1H
BEGIN:VTIMEZONE
TZID:America/Edmonton
BEGIN:DAYLIGHT
TZOFFSETFROM:-0700
TZOFFSETTO:-0600
TZNAME:MDT
DTSTART:20220313T090000
END:DAYLIGHT
BEGIN:STANDARD
TZOFFSETFROM:-0600
TZOFFSETTO:-0700
TZNAME:MST
DTSTART:20221106T080000
END:STANDARD
BEGIN:DAYLIGHT
TZOFFSETFROM:-0700
TZOFFSETTO:-0600
TZNAME:MDT
DTSTART:20230312T090000
END:DAYLIGHT
BEGIN:STANDARD
TZOFFSETFROM:-0600
TZOFFSETTO:-0700
TZNAME:MST
DTSTART:20231105T080000
END:STANDARD
BEGIN:DAYLIGHT
TZOFFSETFROM:-0700
TZOFFSETTO:-0600
TZNAME:MDT
DTSTART:20240310T090000
END:DAYLIGHT
BEGIN:STANDARD
TZOFFSETFROM:-0600
TZOFFSETTO:-0700
TZNAME:MST
DTSTART:20241103T080000
END:STANDARD
END:VTIMEZONE
BEGIN:VEVENT
DTSTART;TZID=America/Edmonton:20230804T120000
DTEND;TZID=America/Edmonton:20230806T180000
DTSTAMP:20260422T054024
CREATED:20220608T210853Z
LAST-MODIFIED:20230616T211601Z
UID:3112-1691150400-1691344800@riverbendcampground.ca
SUMMARY:Heritage Day Long Weekend 50/50 Draw
DESCRIPTION:Get your cash out\, 50/50 sales start August 4th and the winner ticket will be drawn August 6th. Watch for the 50/50 sales cart coming around.
URL:https://riverbendcampground.ca/event/heritage-long-weekend-50-50-draw/
END:VEVENT
END:VCALENDAR