BEGIN:VCALENDAR
VERSION:2.0
PRODID:-//Riverbend Campground, Okotoks, Calgary, Alberta - ECPv6.15.20//NONSGML v1.0//EN
CALSCALE:GREGORIAN
METHOD:PUBLISH
X-WR-CALNAME:Riverbend Campground, Okotoks, Calgary, Alberta
X-ORIGINAL-URL:https://riverbendcampground.ca
X-WR-CALDESC:Events for Riverbend Campground, Okotoks, Calgary, Alberta
REFRESH-INTERVAL;VALUE=DURATION:PT1H
X-Robots-Tag:noindex
X-PUBLISHED-TTL:PT1H
BEGIN:VTIMEZONE
TZID:America/Edmonton
BEGIN:DAYLIGHT
TZOFFSETFROM:-0700
TZOFFSETTO:-0600
TZNAME:MDT
DTSTART:20230312T090000
END:DAYLIGHT
BEGIN:STANDARD
TZOFFSETFROM:-0600
TZOFFSETTO:-0700
TZNAME:MST
DTSTART:20231105T080000
END:STANDARD
BEGIN:DAYLIGHT
TZOFFSETFROM:-0700
TZOFFSETTO:-0600
TZNAME:MDT
DTSTART:20240310T090000
END:DAYLIGHT
BEGIN:STANDARD
TZOFFSETFROM:-0600
TZOFFSETTO:-0700
TZNAME:MST
DTSTART:20241103T080000
END:STANDARD
BEGIN:DAYLIGHT
TZOFFSETFROM:-0700
TZOFFSETTO:-0600
TZNAME:MDT
DTSTART:20250309T090000
END:DAYLIGHT
BEGIN:STANDARD
TZOFFSETFROM:-0600
TZOFFSETTO:-0700
TZNAME:MST
DTSTART:20251102T080000
END:STANDARD
END:VTIMEZONE
BEGIN:VEVENT
DTSTART;TZID=America/Edmonton:20240629T080000
DTEND;TZID=America/Edmonton:20240629T170000
DTSTAMP:20260421T123104
CREATED:20240625T164657Z
LAST-MODIFIED:20240625T165614Z
UID:3775-1719648000-1719680400@riverbendcampground.ca
SUMMARY:Canada Day Long Weekend 50-50
DESCRIPTION:
URL:https://riverbendcampground.ca/event/canada-day-long-weekend-50-50-2/
END:VEVENT
END:VCALENDAR