BEGIN:VCALENDAR
VERSION:2.0
PRODID:-//Riverbend Campground, Okotoks, Calgary, Alberta - ECPv6.15.20//NONSGML v1.0//EN
CALSCALE:GREGORIAN
METHOD:PUBLISH
X-WR-CALNAME:Riverbend Campground, Okotoks, Calgary, Alberta
X-ORIGINAL-URL:https://riverbendcampground.ca
X-WR-CALDESC:Events for Riverbend Campground, Okotoks, Calgary, Alberta
REFRESH-INTERVAL;VALUE=DURATION:PT1H
X-Robots-Tag:noindex
X-PUBLISHED-TTL:PT1H
BEGIN:VTIMEZONE
TZID:America/Edmonton
BEGIN:DAYLIGHT
TZOFFSETFROM:-0700
TZOFFSETTO:-0600
TZNAME:MDT
DTSTART:20230312T090000
END:DAYLIGHT
BEGIN:STANDARD
TZOFFSETFROM:-0600
TZOFFSETTO:-0700
TZNAME:MST
DTSTART:20231105T080000
END:STANDARD
BEGIN:DAYLIGHT
TZOFFSETFROM:-0700
TZOFFSETTO:-0600
TZNAME:MDT
DTSTART:20240310T090000
END:DAYLIGHT
BEGIN:STANDARD
TZOFFSETFROM:-0600
TZOFFSETTO:-0700
TZNAME:MST
DTSTART:20241103T080000
END:STANDARD
BEGIN:DAYLIGHT
TZOFFSETFROM:-0700
TZOFFSETTO:-0600
TZNAME:MDT
DTSTART:20250309T090000
END:DAYLIGHT
BEGIN:STANDARD
TZOFFSETFROM:-0600
TZOFFSETTO:-0700
TZNAME:MST
DTSTART:20251102T080000
END:STANDARD
END:VTIMEZONE
BEGIN:VEVENT
DTSTART;TZID=America/Edmonton:20240804T170000
DTEND;TZID=America/Edmonton:20240804T210000
DTSTAMP:20260421T092000
CREATED:20230616T212440Z
LAST-MODIFIED:20250130T232046Z
UID:3420-1722790800-1722805200@riverbendcampground.ca
SUMMARY:Karaoke - August Long Weekend 2025
DESCRIPTION:Come sing your heart out or cheer for those that do! \nMeet up at 64W\, Bring something to drink and a chair. \nStarts at 5PM and goes to 9PM
URL:https://riverbendcampground.ca/event/karaoke-august/
END:VEVENT
END:VCALENDAR