BEGIN:VCALENDAR
VERSION:2.0
PRODID:-//Riverbend Campground, Okotoks, Calgary, Alberta - ECPv6.15.20//NONSGML v1.0//EN
CALSCALE:GREGORIAN
METHOD:PUBLISH
X-ORIGINAL-URL:https://riverbendcampground.ca
X-WR-CALDESC:Events for Riverbend Campground, Okotoks, Calgary, Alberta
REFRESH-INTERVAL;VALUE=DURATION:PT1H
X-Robots-Tag:noindex
X-PUBLISHED-TTL:PT1H
BEGIN:VTIMEZONE
TZID:America/Edmonton
BEGIN:DAYLIGHT
TZOFFSETFROM:-0700
TZOFFSETTO:-0600
TZNAME:MDT
DTSTART:20240310T090000
END:DAYLIGHT
BEGIN:STANDARD
TZOFFSETFROM:-0600
TZOFFSETTO:-0700
TZNAME:MST
DTSTART:20241103T080000
END:STANDARD
BEGIN:DAYLIGHT
TZOFFSETFROM:-0700
TZOFFSETTO:-0600
TZNAME:MDT
DTSTART:20250309T090000
END:DAYLIGHT
BEGIN:STANDARD
TZOFFSETFROM:-0600
TZOFFSETTO:-0700
TZNAME:MST
DTSTART:20251102T080000
END:STANDARD
BEGIN:DAYLIGHT
TZOFFSETFROM:-0700
TZOFFSETTO:-0600
TZNAME:MDT
DTSTART:20260308T090000
END:DAYLIGHT
BEGIN:STANDARD
TZOFFSETFROM:-0600
TZOFFSETTO:-0700
TZNAME:MST
DTSTART:20261101T080000
END:STANDARD
END:VTIMEZONE
BEGIN:VEVENT
DTSTART;TZID=America/Edmonton:20250823T140000
DTEND;TZID=America/Edmonton:20250823T160000
DTSTAMP:20260420T142946
CREATED:20240419T184954Z
LAST-MODIFIED:20250130T231002Z
UID:3697-1755957600-1755964800@riverbendcampground.ca
SUMMARY:Poker Rally 2025
DESCRIPTION:Our popular Poker Rally returns. $5.00 entry fee\, gather in the green space.
URL:https://riverbendcampground.ca/event/poker-rally/
CATEGORIES:Adult Fun
END:VEVENT
END:VCALENDAR