BEGIN:VCALENDAR
VERSION:2.0
PRODID:-//Riverbend Campground, Okotoks, Calgary, Alberta - ECPv6.15.20//NONSGML v1.0//EN
CALSCALE:GREGORIAN
METHOD:PUBLISH
X-WR-CALNAME:Riverbend Campground, Okotoks, Calgary, Alberta
X-ORIGINAL-URL:https://riverbendcampground.ca
X-WR-CALDESC:Events for Riverbend Campground, Okotoks, Calgary, Alberta
REFRESH-INTERVAL;VALUE=DURATION:PT1H
X-Robots-Tag:noindex
X-PUBLISHED-TTL:PT1H
BEGIN:VTIMEZONE
TZID:America/Edmonton
BEGIN:DAYLIGHT
TZOFFSETFROM:-0700
TZOFFSETTO:-0600
TZNAME:MDT
DTSTART:20240310T090000
END:DAYLIGHT
BEGIN:STANDARD
TZOFFSETFROM:-0600
TZOFFSETTO:-0700
TZNAME:MST
DTSTART:20241103T080000
END:STANDARD
BEGIN:DAYLIGHT
TZOFFSETFROM:-0700
TZOFFSETTO:-0600
TZNAME:MDT
DTSTART:20250309T090000
END:DAYLIGHT
BEGIN:STANDARD
TZOFFSETFROM:-0600
TZOFFSETTO:-0700
TZNAME:MST
DTSTART:20251102T080000
END:STANDARD
BEGIN:DAYLIGHT
TZOFFSETFROM:-0700
TZOFFSETTO:-0600
TZNAME:MDT
DTSTART:20260308T090000
END:DAYLIGHT
BEGIN:STANDARD
TZOFFSETFROM:-0600
TZOFFSETTO:-0700
TZNAME:MST
DTSTART:20261101T080000
END:STANDARD
END:VTIMEZONE
BEGIN:VEVENT
DTSTART;TZID=America/Edmonton:20250906T120000
DTEND;TZID=America/Edmonton:20250906T140000
DTSTAMP:20260420T105218
CREATED:20250130T230033Z
LAST-MODIFIED:20250825T223048Z
UID:3947-1757160000-1757167200@riverbendcampground.ca
SUMMARY:Duck Race
DESCRIPTION:Meet by the East Washroom
URL:https://riverbendcampground.ca/event/duck-race/
CATEGORIES:Kids Fun
END:VEVENT
BEGIN:VEVENT
DTSTART;TZID=America/Edmonton:20250906T140000
DTEND;TZID=America/Edmonton:20250906T140000
DTSTAMP:20260420T105218
CREATED:20250130T230457Z
LAST-MODIFIED:20250826T215123Z
UID:3951-1757167200-1757167200@riverbendcampground.ca
SUMMARY:Kids' Tie-Dye T-shirts
DESCRIPTION:Kids must provide their own clean white t-shirt for this event.
URL:https://riverbendcampground.ca/event/kids-tie-dye-t-shirts/
LOCATION:Event Tent
CATEGORIES:Kids Fun
END:VEVENT
END:VCALENDAR